BEGIN:VCALENDAR
VERSION:2.0
PRODID:-//Bürgerverein Lengfeld - ECPv6.15.20//NONSGML v1.0//EN
CALSCALE:GREGORIAN
METHOD:PUBLISH
X-ORIGINAL-URL:https://bv-lengfeld.de
X-WR-CALDESC:Veranstaltungen für Bürgerverein Lengfeld
REFRESH-INTERVAL;VALUE=DURATION:PT1H
X-Robots-Tag:noindex
X-PUBLISHED-TTL:PT1H
BEGIN:VTIMEZONE
TZID:Europe/Berlin
BEGIN:DAYLIGHT
TZOFFSETFROM:+0100
TZOFFSETTO:+0200
TZNAME:CEST
DTSTART:20250330T010000
END:DAYLIGHT
BEGIN:STANDARD
TZOFFSETFROM:+0200
TZOFFSETTO:+0100
TZNAME:CET
DTSTART:20251026T010000
END:STANDARD
BEGIN:DAYLIGHT
TZOFFSETFROM:+0100
TZOFFSETTO:+0200
TZNAME:CEST
DTSTART:20260329T010000
END:DAYLIGHT
BEGIN:STANDARD
TZOFFSETFROM:+0200
TZOFFSETTO:+0100
TZNAME:CET
DTSTART:20261025T010000
END:STANDARD
BEGIN:DAYLIGHT
TZOFFSETFROM:+0100
TZOFFSETTO:+0200
TZNAME:CEST
DTSTART:20270328T010000
END:DAYLIGHT
BEGIN:STANDARD
TZOFFSETFROM:+0200
TZOFFSETTO:+0100
TZNAME:CET
DTSTART:20271031T010000
END:STANDARD
END:VTIMEZONE
BEGIN:VEVENT
DTSTART;TZID=Europe/Berlin:20260429T183000
DTEND;TZID=Europe/Berlin:20260429T210000
DTSTAMP:20260423T231700
CREATED:20260423T083805Z
LAST-MODIFIED:20260423T083805Z
UID:3345-1777487400-1777496400@bv-lengfeld.de
SUMMARY:Endlager Atommüll – Einladung zur öffentlichen ONLINE-Sitzung I 29.04.2026\, 18:30h - 21:00h
DESCRIPTION:Öffentliche Bekanntmachung per Mailingliste am 22.04.2026: \nOrganisationsbüro Forum Endlagersuche beim Bundesamt für die Sicherheit der nuklearen Entsorgung (BASE). \nThemenschwerpunkt der Sitzung ist erneut die Novelle des Standortauswahlgesetzes. Prof. Hartmut Gaßner als ehemaliges Mitglied der Endlagerkommission und Dr. Bernd Redecker vom BUND e.V. werden ihre Überlegungen zu verschiedenen Aspekten der geplanten Gesetzesnovelle vorstellen. Anschließend besteht die Möglichkeit im Rahmen einer Diskussionsrunde Fragen zu stellen und eigene Anmerkungen einzubringen.
URL:https://bv-lengfeld.de/event/endlager-atommuell-einladung-zur-oeffentlichen-online-sitzung-i-29-04-2026-1830h-2100h/
END:VEVENT
END:VCALENDAR